BEGIN:VCALENDAR
VERSION:2.0
CALSCALE:GREGORIAN
PRODID:adamgibbons/ics
METHOD:PUBLISH
X-PUBLISHED-TTL:PT1H
BEGIN:VEVENT
UID:IP46uA6P2vas8c_ofb_wi
SUMMARY:Tryllemøte i Sandefjord - Trylling med tau
DTSTAMP:20260421T124618Z
DTSTART:20260511T160000Z
DTEND:20260511T190000Z
DESCRIPTION:\nDenne kvelden har vi tautrylling som tema.\n\nEllers er det d
	e vanlige postene med nytt fra styret\, hva er videre planer for avdelinge
	n\, en matbit og mulighet for trylling ved bordene.\n\nEr du interessert i
	 trylling og vi komme som gjest?\n\nTa kontakt med Petter Vabog på mobil 9
	52 43 774.\n
URL:https://share.google/JaWVGIzVP1DuCXXUS
LOCATION:Torp Hotel
CREATED:20260421T082800Z
LAST-MODIFIED:20260421T082800Z
X-ALT-DESC;FMTTYPE=text/html:<p>Denne kvelden har vi tautrylling som tema.<
	/p><p>Ellers er det de vanlige postene med nytt fra styret, hva er videre 
	planer for avdelingen, en matbit og mulighet for trylling ved bordene.</p>
	<p>Er du interessert i trylling og vi komme som gjest?</p><p>Ta kontakt me
	d Petter Vabog på mobil 952 43 774.</p>
END:VEVENT
END:VCALENDAR
